BEGIN:VCALENDAR
VERSION:2.0
PRODID:-//wp-events-plugin.com//7.2.2.1//EN
TZID:Europe/Berlin
X-WR-TIMEZONE:Europe/Berlin
BEGIN:VEVENT
UID:1@kgv-waldesrauschen.de
DTSTART;TZID=Europe/Berlin:20241026T100000
DTEND;TZID=Europe/Berlin:20241026T220000
DTSTAMP:20240818T172529Z
URL:https://www.kgv-waldesrauschen.de/events/105-jahre-waldesrauschen/
SUMMARY:105 Jahre Waldesrauschen
DESCRIPTION:Liebe Mitglieder\,\n\nwir laden\, anlässlich von 105 Jahren KG
 V Waldesrauschen e.V.\, zu einem erweiterten Saisonende ein. Geplant ist 
 – wie in jedem Jahr – mit dem Abdrehen des Wasser die Saison mit einem
  kleinen Fest ausklingen zu lassen.\n\nDas Saisonende wird Mitte / Ende Ok
 tober 2024 angepeilt.\n\nZur besseren Planung benötigen wir eine ungefäh
 re Personenzahl. Meldet dazu bitte bis 30.09. ob und mit wie viel Personen
  ihr kommt. Ihr könnt gerne eure Angehörigen mit zur Feier bringen.\n\nW
 er etwas zur Unterhaltung oder Beschäftigung beisteuern möchte\, kann si
 ch auch hier gerne bei uns melden.\n\nBei der Anmeldung bitte unbedingt Na
 me\, Vorname und Gartennummer angeben.
LOCATION:https://www.google.com/maps/place/Kleingartenverein+Waldesrauschen
 +e.V./@50.8436011,12.8921955,18.5z/data=!4m6!3m5!1s0x47a7471fab4c07b7:0xdc
 114be3d591c913!8m2!3d50.8438306!4d12.8926353!16s%2Fg%2F11n91kr9xq?authuser
 =0&entry=ttu
END:VEVENT
BEGIN:VTIMEZONE
TZID:Europe/Berlin
X-LIC-LOCATION:Europe/Berlin
BEGIN:DAYLIGHT
DTSTART:20240331T030000
TZOFFSETFROM:+0100
TZOFFSETTO:+0200
TZNAME:CEST
END:DAYLIGHT
END:VTIMEZONE
END:VCALENDAR